BEGIN:VCALENDAR
VERSION:2.0
PRODID:-//BIVT - ECPv6.15.17.1//NONSGML v1.0//EN
CALSCALE:GREGORIAN
METHOD:PUBLISH
X-WR-CALNAME:BIVT
X-ORIGINAL-URL:https://bivt.nl
X-WR-CALDESC:Evenementen voor BIVT
REFRESH-INTERVAL;VALUE=DURATION:PT1H
X-Robots-Tag:noindex
X-PUBLISHED-TTL:PT1H
BEGIN:VTIMEZONE
TZID:Europe/Helsinki
BEGIN:DAYLIGHT
TZOFFSETFROM:+0200
TZOFFSETTO:+0300
TZNAME:EEST
DTSTART:20220327T010000
END:DAYLIGHT
BEGIN:STANDARD
TZOFFSETFROM:+0300
TZOFFSETTO:+0200
TZNAME:EET
DTSTART:20221030T010000
END:STANDARD
BEGIN:DAYLIGHT
TZOFFSETFROM:+0200
TZOFFSETTO:+0300
TZNAME:EEST
DTSTART:20230326T010000
END:DAYLIGHT
BEGIN:STANDARD
TZOFFSETFROM:+0300
TZOFFSETTO:+0200
TZNAME:EET
DTSTART:20231029T010000
END:STANDARD
BEGIN:DAYLIGHT
TZOFFSETFROM:+0200
TZOFFSETTO:+0300
TZNAME:EEST
DTSTART:20240331T010000
END:DAYLIGHT
BEGIN:STANDARD
TZOFFSETFROM:+0300
TZOFFSETTO:+0200
TZNAME:EET
DTSTART:20241027T010000
END:STANDARD
BEGIN:DAYLIGHT
TZOFFSETFROM:+0200
TZOFFSETTO:+0300
TZNAME:EEST
DTSTART:20250330T010000
END:DAYLIGHT
BEGIN:STANDARD
TZOFFSETFROM:+0300
TZOFFSETTO:+0200
TZNAME:EET
DTSTART:20251026T010000
END:STANDARD
BEGIN:DAYLIGHT
TZOFFSETFROM:+0200
TZOFFSETTO:+0300
TZNAME:EEST
DTSTART:20260329T010000
END:DAYLIGHT
BEGIN:STANDARD
TZOFFSETFROM:+0300
TZOFFSETTO:+0200
TZNAME:EET
DTSTART:20261025T010000
END:STANDARD
BEGIN:DAYLIGHT
TZOFFSETFROM:+0200
TZOFFSETTO:+0300
TZNAME:EEST
DTSTART:20270328T010000
END:DAYLIGHT
BEGIN:STANDARD
TZOFFSETFROM:+0300
TZOFFSETTO:+0200
TZNAME:EET
DTSTART:20271031T010000
END:STANDARD
END:VTIMEZONE
BEGIN:VEVENT
DTSTART;TZID=Europe/Helsinki:20260225T100000
DTEND;TZID=Europe/Helsinki:20260225T170000
DTSTAMP:20260421T133339
CREATED:20250905T094054Z
LAST-MODIFIED:20260119T141407Z
UID:10001027-1772013600-1772038800@bivt.nl
SUMMARY:EMDR Casusconceptualisatiedag Interwaves\, wo 25-02-2026 (8 SBU)
DESCRIPTION:[vc_row css_animation=”” row_type=”row” use_row_as_full_screen_section=”no” type=”full_width” angled_section=”no” text_align=”left” background_image_as_pattern=”without_pattern”][vc_column][vc_column_text]Verdiepingsdagen zijn volledig gericht op het behandelen van ingebrachte casuïstiek die deelnemers inbrengen vanuit praktijkervaringen en vraagstukken. Deze vraagstukken worden praktijkgericht besproken en behandeld door plenair te werken. De bijscholing is zeer geschikt de al opgedane kennis verder te exploreren en praktijkgericht je vaardigheden uit te breiden. \nLet op: Deelname is alleen mogelijk na afronding van de 4 of 5 daagse EMDR opleiding bij BivT. Meer informatie hier…[/vc_column_text][/vc_column][/vc_row]
URL:https://bivt.nl/training/emdr-casusconceptualisatiedag-interwaves-25-02-2026-8-sbu/
LOCATION:Heemskerk\, Maerten van Heemskerckplein 7-H\, Heemskerk\, Noord-Holland\, 1964 EZ\, Nederland
CATEGORIES:EMDR casuistiekdag,EMDR praktijkdag interwaves,EMDR Themadag,Psychosociaal
ATTACH;FMTTYPE=image/jpeg:https://bivt.nl/wp-content/uploads/2023/06/EMDR-interwaves-450x300-1.jpg
END:VEVENT
BEGIN:VEVENT
DTSTART;TZID=Europe/Helsinki:20251108T100000
DTEND;TZID=Europe/Helsinki:20251108T170000
DTSTAMP:20260421T133339
CREATED:20250821T114531Z
LAST-MODIFIED:20251107T083234Z
UID:10001012-1762596000-1762621200@bivt.nl
SUMMARY:Vol! EMDR Casusconceptualisatiedag Interwaves\, zat 08-11-2025 (8 SBU)
DESCRIPTION:[vc_row css_animation=”” row_type=”row” use_row_as_full_screen_section=”no” type=”full_width” angled_section=”no” text_align=”left” background_image_as_pattern=”without_pattern”][vc_column][vc_column_text]Verdiepingsdagen zijn volledig gericht op het behandelen van ingebrachte casuïstiek die deelnemers inbrengen vanuit praktijkervaringen en vraagstukken. Deze vraagstukken worden praktijkgericht besproken en behandeld door plenair te werken. De bijscholing is zeer geschikt de al opgedane kennis verder te exploreren en praktijkgericht je vaardigheden uit te breiden. \nLet op: Deelname is alleen mogelijk na afronding van de 4 of 5 daagse EMDR opleiding bij BivT. Meer informatie hier…[/vc_column_text][/vc_column][/vc_row]
URL:https://bivt.nl/bijscholingen/emdr-verdiepingsdag-interwaves/
LOCATION:Heemskerk\, Maerten van Heemskerckplein 7-H\, Heemskerk\, Noord-Holland\, 1964 EZ\, Nederland
CATEGORIES:EMDR casuistiekdag,EMDR praktijkdag interwaves,EMDR Themadag,Psychosociaal
ATTACH;FMTTYPE=image/jpeg:https://bivt.nl/wp-content/uploads/2023/06/EMDR-interwaves-450x300-1.jpg
END:VEVENT
BEGIN:VEVENT
DTSTART;TZID=Europe/Helsinki:20250122T100000
DTEND;TZID=Europe/Helsinki:20250122T170000
DTSTAMP:20260421T133339
CREATED:20241025T060017Z
LAST-MODIFIED:20250102T093425Z
UID:10000434-1737540000-1737565200@bivt.nl
SUMMARY:EMDR Verdiepingsdag Interwaves\, 22-01-2025
DESCRIPTION:[vc_row css_animation=”” row_type=”row” use_row_as_full_screen_section=”no” type=”full_width” angled_section=”no” text_align=”left” background_image_as_pattern=”without_pattern”][vc_column][vc_column_text]Verdiepingsdagen zijn volledig gericht op het behandelen van ingebrachte casuïstiek die deelnemers inbrengen vanuit praktijkervaringen en vraagstukken. Deze vraagstukken worden praktijkgericht besproken en behandeld door plenair te werken. De bijscholing is zeer geschikt de al opgedane kennis verder te exploreren en praktijkgericht je vaardigheden uit te breiden. \nLet op: Deelname is alleen mogelijk na afronding van de 4 of 5 daagse EMDR opleiding bij BivT. Meer informatie hier…[/vc_column_text][/vc_column][/vc_row]
URL:https://bivt.nl/training/emdr-verdiepingsdag-interwaves-22-01-2025/
LOCATION:Amersfoort
CATEGORIES:EMDR casuistiekdag,EMDR praktijkdag interwaves,EMDR Themadag,Psychosociaal
ATTACH;FMTTYPE=image/jpeg:https://bivt.nl/wp-content/uploads/2023/06/EMDR-interwaves-450x300-1.jpg
GEO:52.1368178;5.3582164
END:VEVENT
BEGIN:VEVENT
DTSTART;TZID=Europe/Helsinki:20241025T100000
DTEND;TZID=Europe/Helsinki:20241025T170000
DTSTAMP:20260421T133339
CREATED:20240203T230026Z
LAST-MODIFIED:20240920T100234Z
UID:10000778-1729850400-1729875600@bivt.nl
SUMMARY:EMDR Verdiepingsdag Interwaves\, 25-10-2024
DESCRIPTION:[vc_row css_animation=”” row_type=”row” use_row_as_full_screen_section=”no” type=”full_width” angled_section=”no” text_align=”left” background_image_as_pattern=”without_pattern”][vc_column][vc_column_text]Verdiepingsdagen zijn volledig gericht op het behandelen van ingebrachte casuïstiek die deelnemers inbrengen vanuit praktijkervaringen en vraagstukken. Deze vraagstukken worden praktijkgericht besproken en behandeld door plenair te werken. De bijscholing is zeer geschikt de al opgedane kennis verder te exploreren en praktijkgericht je vaardigheden uit te breiden.[/vc_column_text][/vc_column][/vc_row]
URL:https://bivt.nl/training/emdr-verdiepingsdag-interwaves-25-10-2024/
LOCATION:Utrecht
CATEGORIES:EMDR casuistiekdag,EMDR praktijkdag interwaves,EMDR Themadag,Psychosociaal
ATTACH;FMTTYPE=image/jpeg:https://bivt.nl/wp-content/uploads/2023/06/EMDR-interwaves-450x300-1.jpg
END:VEVENT
BEGIN:VEVENT
DTSTART;TZID=Europe/Helsinki:20240205T100000
DTEND;TZID=Europe/Helsinki:20240205T170000
DTSTAMP:20260421T133339
CREATED:20230713T130619Z
LAST-MODIFIED:20240205T083549Z
UID:10000721-1707127200-1707152400@bivt.nl
SUMMARY:EMDR Verdiepingsdag Interwaves\, 05-02-2024
DESCRIPTION:Verdiepingsdagen zijn volledig gericht op het behandelen van ingebrachte casuïstiek die deelnemers inbrengen vanuit praktijkervaringen en vraagstukken. Deze vraagstukken worden praktijkgericht besproken en behandeld door plenair te werken. De bijscholing is zeer geschikt de al opgedane kennis verder te exploreren en praktijkgericht je vaardigheden uit te breiden. \nMeer informatie hier…
URL:https://bivt.nl/training/emdr-verdiepingsdag-interwaves-05-02-2024/
LOCATION:Utrecht
CATEGORIES:EMDR casuistiekdag,EMDR praktijkdag interwaves,EMDR Themadag,Psychosociaal
ATTACH;FMTTYPE=image/jpeg:https://bivt.nl/wp-content/uploads/2023/06/EMDR-interwaves-450x300-1.jpg
END:VEVENT
BEGIN:VEVENT
DTSTART;TZID=Europe/Helsinki:20231201T100000
DTEND;TZID=Europe/Helsinki:20231201T170000
DTSTAMP:20260421T133339
CREATED:20220714T134725Z
LAST-MODIFIED:20231023T114932Z
UID:10000627-1701424800-1701450000@bivt.nl
SUMMARY:Bijna Vol! EMDR Verdiepingsdag Interwaves\, 01-12-2023
DESCRIPTION:Verdiepingsdagen zijn volledig gericht op het behandelen van ingebrachte casuïstiek die deelnemers inbrengen vanuit praktijkervaringen en vraagstukken. Deze vraagstukken worden praktijkgericht besproken en behandeld door plenair te werken. De bijscholing is zeer geschikt de al opgedane kennis verder te exploreren en praktijkgericht je vaardigheden uit te breiden. \nMeer informatie hier…
URL:https://bivt.nl/training/emdr-verdiepingsdag-interwaves-01-12-2023/
LOCATION:Maerten van Heemskerckplein 7H\, Heemskerk\, Utrecht\, 1964 EZ\, Nederland
CATEGORIES:EMDR casuistiekdag,EMDR praktijkdag interwaves,EMDR Themadag,Psychosociaal
ATTACH;FMTTYPE=image/jpeg:https://bivt.nl/wp-content/uploads/2023/06/EMDR-interwaves-450x300-1.jpg
END:VEVENT
END:VCALENDAR