BEGIN:VCALENDAR
VERSION:2.0
PRODID:-//BIVT - ECPv6.15.17.1//NONSGML v1.0//EN
CALSCALE:GREGORIAN
METHOD:PUBLISH
X-ORIGINAL-URL:https://bivt.nl
X-WR-CALDESC:Evenementen voor BIVT
REFRESH-INTERVAL;VALUE=DURATION:PT1H
X-Robots-Tag:noindex
X-PUBLISHED-TTL:PT1H
BEGIN:VTIMEZONE
TZID:Europe/Helsinki
BEGIN:DAYLIGHT
TZOFFSETFROM:+0200
TZOFFSETTO:+0300
TZNAME:EEST
DTSTART:20220327T010000
END:DAYLIGHT
BEGIN:STANDARD
TZOFFSETFROM:+0300
TZOFFSETTO:+0200
TZNAME:EET
DTSTART:20221030T010000
END:STANDARD
BEGIN:DAYLIGHT
TZOFFSETFROM:+0200
TZOFFSETTO:+0300
TZNAME:EEST
DTSTART:20230326T010000
END:DAYLIGHT
BEGIN:STANDARD
TZOFFSETFROM:+0300
TZOFFSETTO:+0200
TZNAME:EET
DTSTART:20231029T010000
END:STANDARD
BEGIN:DAYLIGHT
TZOFFSETFROM:+0200
TZOFFSETTO:+0300
TZNAME:EEST
DTSTART:20240331T010000
END:DAYLIGHT
BEGIN:STANDARD
TZOFFSETFROM:+0300
TZOFFSETTO:+0200
TZNAME:EET
DTSTART:20241027T010000
END:STANDARD
BEGIN:DAYLIGHT
TZOFFSETFROM:+0200
TZOFFSETTO:+0300
TZNAME:EEST
DTSTART:20250330T010000
END:DAYLIGHT
BEGIN:STANDARD
TZOFFSETFROM:+0300
TZOFFSETTO:+0200
TZNAME:EET
DTSTART:20251026T010000
END:STANDARD
BEGIN:DAYLIGHT
TZOFFSETFROM:+0200
TZOFFSETTO:+0300
TZNAME:EEST
DTSTART:20260329T010000
END:DAYLIGHT
BEGIN:STANDARD
TZOFFSETFROM:+0300
TZOFFSETTO:+0200
TZNAME:EET
DTSTART:20261025T010000
END:STANDARD
BEGIN:DAYLIGHT
TZOFFSETFROM:+0200
TZOFFSETTO:+0300
TZNAME:EEST
DTSTART:20270328T010000
END:DAYLIGHT
BEGIN:STANDARD
TZOFFSETFROM:+0300
TZOFFSETTO:+0200
TZNAME:EET
DTSTART:20271031T010000
END:STANDARD
END:VTIMEZONE
BEGIN:VEVENT
DTSTART;VALUE=DATE:20260320
DTEND;VALUE=DATE:20260321
DTSTAMP:20260423T134724
CREATED:20251219T230019Z
LAST-MODIFIED:20251215T134530Z
UID:10001150-1773964800-1774051199@bivt.nl
SUMMARY:Emotionele Manipulatie in de relatie (7 SBU) (Q1)
DESCRIPTION:“Je begrijpt het niet schatje\, daar ben je te dom voor.”  \nHebben je cliënten dit soort commentaar geregeld gehoord? Hoor je dat deze opmerkingen plaats vinden in relatietherapie? Gaslighting begint met ogenschijnlijk onschuldige opmerkingen. Maar achter deze woorden gaat een gevaarlijke manipulatietechniek schuil. \nMeer informatie hier…
URL:https://bivt.nl/bijscholingen/emotionele-manipulatie-in-de-relatie/
LOCATION:Thuisstudie
CATEGORIES:Coaching & Counseling,Emotionele Manipulatie in de relatie,Psychosociaal
ATTACH;FMTTYPE=image/png:https://bivt.nl/wp-content/uploads/2025/06/emotionelemanipulatie-1.png
END:VEVENT
BEGIN:VEVENT
DTSTART;TZID=Europe/Helsinki:20251220T100000
DTEND;TZID=Europe/Helsinki:20251220T170000
DTSTAMP:20260423T134724
CREATED:20250901T220043Z
LAST-MODIFIED:20250909T150705Z
UID:10000943-1766224800-1766250000@bivt.nl
SUMMARY:Emotionele Manipulatie in de relatie (7 SBU) (Q4)
DESCRIPTION:“Je begrijpt het niet schatje\, daar ben je te dom voor.”  \n              “Als je echt van me houdt\, dan zou je dit doen”  \n                   “Je bent altijd van streek\, je speelt altijd het slachtoffer. Daarom houdt niemand van je.” \nMeer informatie hier…  \n 
URL:https://bivt.nl/bijscholingen/emotionele-manipulatie-in-de-relatie/
LOCATION:Thuisstudie
CATEGORIES:Coaching & Counseling,Emotionele Manipulatie in de relatie,Psychosociaal
ATTACH;FMTTYPE=image/png:https://bivt.nl/wp-content/uploads/2025/06/emotionelemanipulatie.png
END:VEVENT
BEGIN:VEVENT
DTSTART;TZID=Europe/Helsinki:20250902T100000
DTEND;TZID=Europe/Helsinki:20250902T170000
DTSTAMP:20260423T134724
CREATED:20250701T060047Z
LAST-MODIFIED:20250908T070630Z
UID:10000942-1756807200-1756832400@bivt.nl
SUMMARY:Emotionele Manipulatie in de relatie (7 SBU) (Q3)
DESCRIPTION:“Je begrijpt het niet schatje\, daar ben je te dom voor.”  \n              “Als je echt van me houdt\, dan zou je dit doen”  \n                   “Je bent altijd van streek\, je speelt altijd het slachtoffer. Daarom houdt niemand van je.” \nMeer informatie hier…  \n 
URL:https://bivt.nl/bijscholingen/emotionele-manipulatie-in-de-relatie/
LOCATION:Thuisstudie
CATEGORIES:Coaching & Counseling,Emotionele Manipulatie in de relatie,Psychosociaal
ATTACH;FMTTYPE=image/png:https://bivt.nl/wp-content/uploads/2025/06/emotionelemanipulatie.png
END:VEVENT
BEGIN:VEVENT
DTSTART;TZID=Europe/Helsinki:20250630T100000
DTEND;TZID=Europe/Helsinki:20250630T170000
DTSTAMP:20260423T134725
CREATED:20250331T220040Z
LAST-MODIFIED:20250610T195757Z
UID:10000941-1751277600-1751302800@bivt.nl
SUMMARY:Emotionele Manipulatie in de relatie (7 SBU) (Q2)
DESCRIPTION:“Je begrijpt het niet schatje\, daar ben je te dom voor.”  \n              “Als je echt van me houdt\, dan zou je dit doen”  \n                   “Je bent altijd van streek\, je speelt altijd het slachtoffer. Daarom houdt niemand van je.”  \nMeer informatie hier… \n 
URL:https://bivt.nl/bijscholingen/emotionele-manipulatie-in-de-relatie/
LOCATION:Thuisstudie
CATEGORIES:Coaching & Counseling,Emotionele Manipulatie in de relatie,Psychosociaal
END:VEVENT
BEGIN:VEVENT
DTSTART;TZID=Europe/Helsinki:20250331T100000
DTEND;TZID=Europe/Helsinki:20250331T170000
DTSTAMP:20260423T134725
CREATED:20241219T230035Z
LAST-MODIFIED:20250330T122103Z
UID:10000940-1743415200-1743440400@bivt.nl
SUMMARY:Emotionele Manipulatie in de relatie (Q1)
DESCRIPTION:“Je begrijpt het niet schatje\, daar ben je te dom voor.”  \nHebben je cliënten dit soort commentaar geregeld gehoord? Hoor je dat deze opmerkingen plaats vinden in relatietherapie? Gaslighting begint met ogenschijnlijk onschuldige opmerkingen. Maar achter deze woorden gaat een gevaarlijke manipulatietechniek schuil. \nMeer informatie hier…
URL:https://bivt.nl/training/emotionele-manipulatie-in-de-relatie-q1/
LOCATION:Thuisstudie
CATEGORIES:Coaching & Counseling,Emotionele Manipulatie in de relatie,Psychosociaal
ATTACH;FMTTYPE=image/jpeg:https://bivt.nl/wp-content/uploads/2023/06/emotionele-manipulatie-e1676994008850.jpg
END:VEVENT
BEGIN:VEVENT
DTSTART;TZID=Europe/Helsinki:20241102T100000
DTEND;TZID=Europe/Helsinki:20241102T170000
DTSTAMP:20260423T134725
CREATED:20240429T220006Z
LAST-MODIFIED:20241001T112543Z
UID:10000816-1730541600-1730566800@bivt.nl
SUMMARY:Emotionele Manipulatie in de relatie\, 02-11-2024
DESCRIPTION:“Je begrijpt het niet schatje\, daar ben je te dom voor.”  \n              “Als je echt van me houdt\, dan zou je dit doen”  \n                   “Je bent altijd van streek\, je speelt altijd het slachtoffer. Daarom houdt niemand van je.”  \n 
URL:https://bivt.nl/training/emotionele-manipulatie-in-de-relatie-02-11-2024/
CATEGORIES:Coaching & Counseling,Emotionele Manipulatie in de relatie,Psychosociaal
END:VEVENT
BEGIN:VEVENT
DTSTART;TZID=Europe/Helsinki:20240531T100000
DTEND;TZID=Europe/Helsinki:20240531T170000
DTSTAMP:20260423T134725
CREATED:20230713T122412Z
LAST-MODIFIED:20240527T082722Z
UID:10000616-1717149600-1717174800@bivt.nl
SUMMARY:Emotionele Manipulatie in de relatie\, 31-05-2024
DESCRIPTION:“Je begrijpt het niet schatje\, daar ben je te dom voor.”  \n              “Als je echt van me houdt\, dan zou je dit doen”  \n                   “Je bent altijd van streek\, je speelt altijd het slachtoffer. Daarom houdt niemand van je.”  \nMeer informatie hier…
URL:https://bivt.nl/training/emotionele-manipulatie-in-de-relatie-31-05-2024/
LOCATION:Maerten van Heemskerckplein 7H\, Heemskerk\, 1964 EZ\, Nederland
CATEGORIES:Coaching & Counseling,Emotionele Manipulatie in de relatie,Psychosociaal
ATTACH;FMTTYPE=image/jpeg:https://bivt.nl/wp-content/uploads/2023/06/emotionele-manipulatie-e1676994008850.jpg
END:VEVENT
BEGIN:VEVENT
DTSTART;TZID=Europe/Helsinki:20231027T100000
DTEND;TZID=Europe/Helsinki:20231027T170000
DTSTAMP:20260423T134725
CREATED:20230418T085934Z
LAST-MODIFIED:20231013T121602Z
UID:10000703-1698400800-1698426000@bivt.nl
SUMMARY:Emotionele Manipulatie in de relatie\, 27-10-2023
DESCRIPTION:“Je begrijpt het niet schatje\, daar ben je te dom voor.”  \n              “Als je echt van me houdt\, dan zou je dit doen”  \n                   “Je bent altijd van streek\, je speelt altijd het slachtoffer. Daarom houdt niemand van je.”  \nMeer informatie hier…
URL:https://bivt.nl/training/emotionele-manipulatie-in-de-relatie-27-10-2023/
LOCATION:Amersfoort
CATEGORIES:Coaching & Counseling,Emotionele Manipulatie in de relatie,Psychosociaal
ATTACH;FMTTYPE=image/jpeg:https://bivt.nl/wp-content/uploads/2023/06/emotionele-manipulatie-e1676994008850.jpg
GEO:52.1368178;5.3582164
END:VEVENT
BEGIN:VEVENT
DTSTART;TZID=Europe/Helsinki:20230418T093000
DTEND;TZID=Europe/Helsinki:20230418T101500
DTSTAMP:20260423T134725
CREATED:20230306T101815Z
LAST-MODIFIED:20230306T101815Z
UID:10000696-1681810200-1681812900@bivt.nl
SUMMARY:Gratis Webinar Emotionele Manipulatie in de relatie\, 18-04-2023
DESCRIPTION:“Je begrijpt het niet schatje\, daar ben je te dom voor.”  \n              “Als je echt van me houdt\, dan zou je dit doen”  \n                   “Je bent altijd van streek\, je speelt altijd het slachtoffer. Daarom houdt niemand van je.”  \nMeer informatie hier…
URL:https://bivt.nl/training/gratis-webinar-emotionele-manipulatie-in-de-relatie-18-04-2023/
LOCATION:Privé: Webinar
CATEGORIES:Emotionele Manipulatie in de relatie,Psychosociaal,Webinar
ATTACH;FMTTYPE=:
GEO:52.4823287;4.6566099
END:VEVENT
END:VCALENDAR