BEGIN:VCALENDAR
VERSION:2.0
PRODID:-//BIVT - ECPv6.15.17.1//NONSGML v1.0//EN
CALSCALE:GREGORIAN
METHOD:PUBLISH
X-ORIGINAL-URL:https://bivt.nl
X-WR-CALDESC:Evenementen voor BIVT
REFRESH-INTERVAL;VALUE=DURATION:PT1H
X-Robots-Tag:noindex
X-PUBLISHED-TTL:PT1H
BEGIN:VTIMEZONE
TZID:Europe/Helsinki
BEGIN:DAYLIGHT
TZOFFSETFROM:+0200
TZOFFSETTO:+0300
TZNAME:EEST
DTSTART:20250330T010000
END:DAYLIGHT
BEGIN:STANDARD
TZOFFSETFROM:+0300
TZOFFSETTO:+0200
TZNAME:EET
DTSTART:20251026T010000
END:STANDARD
BEGIN:DAYLIGHT
TZOFFSETFROM:+0200
TZOFFSETTO:+0300
TZNAME:EEST
DTSTART:20260329T010000
END:DAYLIGHT
BEGIN:STANDARD
TZOFFSETFROM:+0300
TZOFFSETTO:+0200
TZNAME:EET
DTSTART:20261025T010000
END:STANDARD
BEGIN:DAYLIGHT
TZOFFSETFROM:+0200
TZOFFSETTO:+0300
TZNAME:EEST
DTSTART:20270328T010000
END:DAYLIGHT
BEGIN:STANDARD
TZOFFSETFROM:+0300
TZOFFSETTO:+0200
TZNAME:EET
DTSTART:20271031T010000
END:STANDARD
END:VTIMEZONE
BEGIN:VEVENT
DTSTART;VALUE=DATE:20260620
DTEND;VALUE=DATE:20260621
DTSTAMP:20260423T122806
CREATED:20260319T230052Z
LAST-MODIFIED:20251215T134651Z
UID:10001151-1781913600-1781999999@bivt.nl
SUMMARY:Emotionele Manipulatie in de relatie (7 SBU) (Q2)
DESCRIPTION:“Je begrijpt het niet schatje\, daar ben je te dom voor.”  \nHebben je cliënten dit soort commentaar geregeld gehoord? Hoor je dat deze opmerkingen plaats vinden in relatietherapie? Gaslighting begint met ogenschijnlijk onschuldige opmerkingen. Maar achter deze woorden gaat een gevaarlijke manipulatietechniek schuil. \nMeer informatie hier…
URL:https://bivt.nl/bijscholingen/emotionele-manipulatie-in-de-relatie/
LOCATION:Thuisstudie
CATEGORIES:Coaching & Counseling,Emotionele Manipulatie in de relatie,Psychosociaal
ATTACH;FMTTYPE=image/png:https://bivt.nl/wp-content/uploads/2025/06/emotionelemanipulatie-1.png
END:VEVENT
END:VCALENDAR