BEGIN:VCALENDAR
VERSION:2.0
PRODID:-//BIVT - ECPv6.15.17.1//NONSGML v1.0//EN
CALSCALE:GREGORIAN
METHOD:PUBLISH
X-ORIGINAL-URL:https://bivt.nl
X-WR-CALDESC:Evenementen voor BIVT
REFRESH-INTERVAL;VALUE=DURATION:PT1H
X-Robots-Tag:noindex
X-PUBLISHED-TTL:PT1H
BEGIN:VTIMEZONE
TZID:Europe/Amsterdam
BEGIN:DAYLIGHT
TZOFFSETFROM:+0100
TZOFFSETTO:+0200
TZNAME:CEST
DTSTART:20230326T010000
END:DAYLIGHT
BEGIN:STANDARD
TZOFFSETFROM:+0200
TZOFFSETTO:+0100
TZNAME:CET
DTSTART:20231029T010000
END:STANDARD
BEGIN:DAYLIGHT
TZOFFSETFROM:+0100
TZOFFSETTO:+0200
TZNAME:CEST
DTSTART:20240331T010000
END:DAYLIGHT
BEGIN:STANDARD
TZOFFSETFROM:+0200
TZOFFSETTO:+0100
TZNAME:CET
DTSTART:20241027T010000
END:STANDARD
BEGIN:DAYLIGHT
TZOFFSETFROM:+0100
TZOFFSETTO:+0200
TZNAME:CEST
DTSTART:20250330T010000
END:DAYLIGHT
BEGIN:STANDARD
TZOFFSETFROM:+0200
TZOFFSETTO:+0100
TZNAME:CET
DTSTART:20251026T010000
END:STANDARD
END:VTIMEZONE
BEGIN:VEVENT
DTSTART;TZID=Europe/Amsterdam:20241018T090000
DTEND;TZID=Europe/Amsterdam:20241018T120000
DTSTAMP:20260424T134236
CREATED:20240430T220014Z
LAST-MODIFIED:20240920T100209Z
UID:10000817-1729242000-1729252800@bivt.nl
SUMMARY:Met TA uit de burn-out\, 18-10-2024\, Online
DESCRIPTION:Burn-out is het vastzitten in patronen die én heel belangrijk zijn én enorm veel energie kosten. En met ratio niet op te lossen zijn: de cliënt weet dat het gebeurt en vaak ook dat hij/zij het zichzelf aandoet\, maar dat besef helpt niet. Loskrijgen van wat zo vast zit is de Transactionele Analyse op het lijf geschreven: met TA is dit patroon goed los te krijgen. In de ontmoeting met de sterke\, soms wanhopig\, soms moedeloos aanvoelende burn-out emoties bij de cliënt leert TA je ook om als begeleider daarmee effectief en voor jezelf gezond om te gaan. \nMeer informatie hier…
URL:https://bivt.nl/training/met-ta-uit-de-burn-out-18-10-2024-online/
LOCATION:Online zoom\, Nederland
CATEGORIES:Met TA uit de burn-out,Psychosociaal
ATTACH;FMTTYPE=image/jpeg:https://bivt.nl/wp-content/uploads/2023/06/Met-Ta-uit-de-burn-out-foto-4-3-e1599817956761.jpg
GEO:39.9613759;-105.5108312
END:VEVENT
BEGIN:VEVENT
DTSTART;TZID=Europe/Amsterdam:20240524T090000
DTEND;TZID=Europe/Amsterdam:20240524T120000
DTSTAMP:20260424T134236
CREATED:20230720T134904Z
LAST-MODIFIED:20240416T112239Z
UID:10000727-1716541200-1716552000@bivt.nl
SUMMARY:Met TA uit de burn-out\, 24-05-2024
DESCRIPTION:Burn-out is het vastzitten in patronen die én heel belangrijk zijn én enorm veel energie kosten. En met ratio niet op te lossen zijn: de cliënt weet dat het gebeurt en vaak ook dat hij/zij het zichzelf aandoet\, maar dat besef helpt niet. Loskrijgen van wat zo vast zit is de Transactionele Analyse op het lijf geschreven: met TA is dit patroon goed los te krijgen. In de ontmoeting met de sterke\, soms wanhopig\, soms moedeloos aanvoelende burn-out emoties bij de cliënt leert TA je ook om als begeleider daarmee effectief en voor jezelf gezond om te gaan.
URL:https://bivt.nl/training/met-ta-uit-de-burn-out-24-05-2024/
LOCATION:Online zoom\, Nederland
CATEGORIES:Met TA uit de burn-out,Psychosociaal
ATTACH;FMTTYPE=image/jpeg:https://bivt.nl/wp-content/uploads/2023/06/Met-Ta-uit-de-burn-out-foto-4-3-e1599817956761.jpg
GEO:39.9613759;-105.5108312
END:VEVENT
END:VCALENDAR