BEGIN:VCALENDAR
VERSION:2.0
PRODID:-//BIVT - ECPv6.15.17.1//NONSGML v1.0//EN
CALSCALE:GREGORIAN
METHOD:PUBLISH
X-WR-CALNAME:BIVT
X-ORIGINAL-URL:https://bivt.nl
X-WR-CALDESC:Evenementen voor BIVT
REFRESH-INTERVAL;VALUE=DURATION:PT1H
X-Robots-Tag:noindex
X-PUBLISHED-TTL:PT1H
BEGIN:VTIMEZONE
TZID:Europe/Amsterdam
BEGIN:DAYLIGHT
TZOFFSETFROM:+0100
TZOFFSETTO:+0200
TZNAME:CEST
DTSTART:20250330T010000
END:DAYLIGHT
BEGIN:STANDARD
TZOFFSETFROM:+0200
TZOFFSETTO:+0100
TZNAME:CET
DTSTART:20251026T010000
END:STANDARD
BEGIN:DAYLIGHT
TZOFFSETFROM:+0100
TZOFFSETTO:+0200
TZNAME:CEST
DTSTART:20260329T010000
END:DAYLIGHT
BEGIN:STANDARD
TZOFFSETFROM:+0200
TZOFFSETTO:+0100
TZNAME:CET
DTSTART:20261025T010000
END:STANDARD
BEGIN:DAYLIGHT
TZOFFSETFROM:+0100
TZOFFSETTO:+0200
TZNAME:CEST
DTSTART:20270328T010000
END:DAYLIGHT
BEGIN:STANDARD
TZOFFSETFROM:+0200
TZOFFSETTO:+0100
TZNAME:CET
DTSTART:20271031T010000
END:STANDARD
BEGIN:DAYLIGHT
TZOFFSETFROM:+0100
TZOFFSETTO:+0200
TZNAME:CEST
DTSTART:20280326T010000
END:DAYLIGHT
BEGIN:STANDARD
TZOFFSETFROM:+0200
TZOFFSETTO:+0100
TZNAME:CET
DTSTART:20281029T010000
END:STANDARD
END:VTIMEZONE
BEGIN:VEVENT
DTSTART;VALUE=DATE:20260620
DTEND;VALUE=DATE:20260621
DTSTAMP:20260420T133427
CREATED:20260319T230013Z
LAST-MODIFIED:20251215T100340Z
UID:10001129-1781913600-1781999999@bivt.nl
SUMMARY:In gevecht met de krab (6 SBU) (Q2)
DESCRIPTION:  \n 
URL:https://bivt.nl/bijscholingen/in-gevecht-met-de-krab/
LOCATION:Thuisstudie
CATEGORIES:In gevecht met de krab,Medische en Psychosociale Basiskennis,Webinar,Webposium
ATTACH;FMTTYPE=image/png:https://bivt.nl/wp-content/uploads/2025/06/In-gevecht-met-krab.png
END:VEVENT
BEGIN:VEVENT
DTSTART;VALUE=DATE:20260620
DTEND;VALUE=DATE:20260621
DTSTAMP:20260420T133427
CREATED:20260319T230021Z
LAST-MODIFIED:20260416T100105Z
UID:10001125-1781913600-1781999999@bivt.nl
SUMMARY:Hormonale geneesmiddelen (6 SBU) (Q2)
DESCRIPTION:
URL:https://bivt.nl/bijscholingen/hormonale-geneesmiddelen/
LOCATION:Thuisstudie
CATEGORIES:Coaching & Counseling,Hormonale geneesmiddelen,Medische en Psychosociale Basiskennis,Psychosociale Basiskennis,Webinar,Webposium
ATTACH;FMTTYPE=image/png:https://bivt.nl/wp-content/uploads/2025/06/Hormonale-nieuw.png
END:VEVENT
BEGIN:VEVENT
DTSTART;VALUE=DATE:20260620
DTEND;VALUE=DATE:20260621
DTSTAMP:20260420T133427
CREATED:20260319T230031Z
LAST-MODIFIED:20251215T101412Z
UID:10001132-1781913600-1781999999@bivt.nl
SUMMARY:Geneesmiddelen voor hart en hoofd (6 SBU) (Q2)
DESCRIPTION:
URL:https://bivt.nl/bijscholingen/geneesmiddelen-voor-hart-en-hoofd/
LOCATION:Thuisstudie
CATEGORIES:Geneesmiddelen voor hart en hoofd,Medische en Psychosociale Basiskennis,Webinar,Webposium
ATTACH;FMTTYPE=image/png:https://bivt.nl/wp-content/uploads/2025/06/Geneesmiddelen-hart-en-hoofd-nieuw.png
END:VEVENT
BEGIN:VEVENT
DTSTART;VALUE=DATE:20260620
DTEND;VALUE=DATE:20260621
DTSTAMP:20260420T133428
CREATED:20260319T230034Z
LAST-MODIFIED:20260416T095457Z
UID:10001107-1781913600-1781999999@bivt.nl
SUMMARY:Diabetes Mellitus (6 SBU) (Q2)
DESCRIPTION:
URL:https://bivt.nl/bijscholingen/diabetes/
LOCATION:Thuisstudie
CATEGORIES:diabetes mellitus
ATTACH;FMTTYPE=image/png:https://bivt.nl/wp-content/uploads/2026/04/Diabetes-Mellitus.png
END:VEVENT
BEGIN:VEVENT
DTSTART;VALUE=DATE:20260620
DTEND;VALUE=DATE:20260621
DTSTAMP:20260420T133428
CREATED:20260319T230035Z
LAST-MODIFIED:20260324T144137Z
UID:10001120-1781913600-1781999999@bivt.nl
SUMMARY:Strijders tegen infectieziekten (6 SBU) (Q2)
DESCRIPTION:
URL:https://bivt.nl/bijscholingen/strijders-tegen-infectieziekten/
LOCATION:Thuisstudie
CATEGORIES:Coaching & Counseling,Medische en Psychosociale Basiskennis,Psychosociale Basiskennis,Strijders tegen infectieziekten,Webinar,Webposium
ATTACH;FMTTYPE=image/png:https://bivt.nl/wp-content/uploads/2025/06/Strijder-tegen-infectieziekten.png
END:VEVENT
BEGIN:VEVENT
DTSTART;VALUE=DATE:20260620
DTEND;VALUE=DATE:20260621
DTSTAMP:20260420T133428
CREATED:20260319T230048Z
LAST-MODIFIED:20260416T111138Z
UID:10001111-1781913600-1781999999@bivt.nl
SUMMARY:De schatkamer van de natuur gaat open (6 SBU) (Q2)
DESCRIPTION:
URL:https://bivt.nl/bijscholingen/de-schatkamer-van-de-natuur-gaat-open/
LOCATION:Thuisstudie
CATEGORIES:De schatkamer van de natuur gaat open
ATTACH;FMTTYPE=image/png:https://bivt.nl/wp-content/uploads/2026/04/schatkamer-2.png
END:VEVENT
BEGIN:VEVENT
DTSTART;VALUE=DATE:20260620
DTEND;VALUE=DATE:20270106
DTSTAMP:20260420T133428
CREATED:20260319T230052Z
LAST-MODIFIED:20260416T100506Z
UID:10001116-1781913600-1799193599@bivt.nl
SUMMARY:Virussen\, virusinfecties en vaccins (6 SBU) (Q2)
DESCRIPTION:
URL:https://bivt.nl/bijscholingen/virussen-virusinfecties-en-vaccins/
LOCATION:Thuisstudie
CATEGORIES:Medische en Psychosociale Basiskennis,Virussen, virusinfecties en vaccins,Webinar,Webposium
ATTACH;FMTTYPE=image/png:https://bivt.nl/wp-content/uploads/2026/06/virussen.png
END:VEVENT
BEGIN:VEVENT
DTSTART;VALUE=DATE:20260620
DTEND;VALUE=DATE:20260621
DTSTAMP:20260420T133428
CREATED:20260416T091836Z
LAST-MODIFIED:20260416T093735Z
UID:10001211-1781913600-1781999999@bivt.nl
SUMMARY:Bloedsomloop (6 SBU) (Q2-2026)
DESCRIPTION:
URL:https://bivt.nl/bijscholingen/de-bloedsomloop/
LOCATION:Thuisstudie
CATEGORIES:Bloedsomloop
ATTACH;FMTTYPE=image/png:https://bivt.nl/wp-content/uploads/2026/04/Details-van-het-menselijke-circulatiesysteem.png
END:VEVENT
BEGIN:VEVENT
DTSTART;VALUE=DATE:20260620
DTEND;VALUE=DATE:20260621
DTSTAMP:20260420T133428
CREATED:20260416T094248Z
LAST-MODIFIED:20260416T094337Z
UID:10001214-1781913600-1781999999@bivt.nl
SUMMARY:Ademhalingsstelsel (6 SBU) (Q2)
DESCRIPTION:
URL:https://bivt.nl/bijscholingen/ademhalingsstelsel/
LOCATION:Thuisstudie
CATEGORIES:Ademhalingsstelsel
ATTACH;FMTTYPE=image/png:https://bivt.nl/wp-content/uploads/2026/04/Medisch-trainingsmodel-van-de-longen.png
END:VEVENT
END:VCALENDAR